BEGIN:VCALENDAR
VERSION:2.0
PRODID:icalendar-ruby
CALSCALE:GREGORIAN
METHOD:PUBLISH
BEGIN:VEVENT
DTSTAMP:20260420T202112Z
UID:7-595513@renewedfaithcc.org
DTSTART:20260914T120000Z
DTEND:20260914T130000Z
CLASS:PUBLIC
CREATED:20260420T151545
DESCRIPTION:Join us every weekday morning as we draw near to God together! 
 Dedicate the first part of your day to the Lord. We gather for prayer to l
 ay our requests\, thanks\, and praise to God before we step into the world
 .\nPsalms 5:3 (NIV) - In the morning\, Lord\, You hear my voice\; in the m
 orning I lay my requests before You and wait expectantly.\nCall 605.313.41
 97 enter code: 613592
LAST-MODIFIED:20260420T151545
LOCATION:Call 605.313.4197 enter code: 613592
SUMMARY:Morning Prayer Call
URL;VALUE=URI:https://renewedfaithcc.org/events/morning-prayer-call/2026-09
 -14
ATTACH;FILENAME=F7s2E.jpg;FMTTYPE=image/jpeg:https://dq5pwpg1q8ru0.cloudfro
 nt.net/2025/11/09/16/42/49/e6570de7-d419-4297-9563-d2da2ddaa1ff/F7s2E.jpg
END:VEVENT
END:VCALENDAR
