BEGIN:VCALENDAR
VERSION:2.0
PRODID:icalendar-ruby
CALSCALE:GREGORIAN
METHOD:PUBLISH
BEGIN:VEVENT
DTSTAMP:20260420T171812Z
UID:6-594317@renewedfaithcc.org
DTSTART:20260830T150000Z
DTEND:20260830T161500Z
CLASS:PUBLIC
CREATED:20260420T100609
DESCRIPTION:
LAST-MODIFIED:20260420T100609
LOCATION:170 South Adams Street\, Oswego\, IL 60543
SUMMARY:Sunday Service
URL;VALUE=URI:https://renewedfaithcc.org/events/sunday-service/2026-08-30
ATTACH;FILENAME=pexels-pavel-danilyuk-8814997.jpg;FMTTYPE=image/jpeg:https:
 //dq5pwpg1q8ru0.cloudfront.net/2025/10/26/21/49/58/0e4c24a1-02a4-4263-ae9f
 -a37fb987544e/pexels-pavel-danilyuk-8814997.jpg
END:VEVENT
END:VCALENDAR
